BEGIN:VCALENDAR
VERSION:2.0
PRODID:spatie/icalendar-generator
DESCRIPTION:Veranstaltungen von The Sound of Music Factory
X-WR-CALDESC:Veranstaltungen von The Sound of Music Factory
REFRESH-INTERVAL;VALUE=DURATION:PT1440M
X-PUBLISHED-TTL:PT1440M
BEGIN:VTIMEZONE
TZID:Europe/Berlin
BEGIN:STANDARD
DTSTART:20241027T030000Z
TZOFFSETFROM:+0200
TZOFFSETTO:+0100
END:STANDARD
BEGIN:DAYLIGHT
DTSTART:20250330T020000Z
TZOFFSETFROM:+0100
TZOFFSETTO:+0200
END:DAYLIGHT
BEGIN:STANDARD
DTSTART:20251026T030000Z
TZOFFSETFROM:+0200
TZOFFSETTO:+0100
END:STANDARD
END:VTIMEZONE
BEGIN:VTIMEZONE
TZID:UTC
BEGIN:STANDARD
DTSTART:20250725T172958Z
TZOFFSETFROM:+0000
TZOFFSETTO:+0000
END:STANDARD
END:VTIMEZONE
BEGIN:VEVENT
UID:19760-138
DTSTAMP:20260421T172958Z
SUMMARY:Doc's Juke Joint
LOCATION:
ORGANIZER;CN=Frank:MAILTO:frank@som-factory.com
RRULE:FREQ=WEEKLY;UNTIL=20250718T000000Z
DTSTART;TZID=Europe/Berlin:20250619T200000
DTEND;TZID=Europe/Berlin:20250619T220000
X-ALT-DESC;FMTTYPE=TEXT/HTML:
CATEGORIES:General
URL;VALUE=URI:https://som-factory.eu/mc-events/docs-juke-joint?mc_id=19760
METHOD:PUBLISH
END:VEVENT
END:VCALENDAR